BEGIN:VCALENDAR
VERSION:2.0
PRODID:-//Daylesford Cider Co - ECPv4.9.4//NONSGML v1.0//EN
CALSCALE:GREGORIAN
METHOD:PUBLISH
X-WR-CALNAME:Daylesford Cider Co
X-ORIGINAL-URL:https://daylesfordcider.com.au
X-WR-CALDESC:Events for Daylesford Cider Co
BEGIN:VTIMEZONE
TZID:"UTC"
BEGIN:STANDARD
TZOFFSETFROM:+0000
TZOFFSETTO:+0000
TZNAME:UTC
DTSTART:20190101T000000
END:STANDARD
END:VTIMEZONE
BEGIN:VEVENT
DTSTART;TZID="UTC":20191207T160000
DTEND;TZID="UTC":20191207T190000
DTSTAMP:20200229T024359
CREATED:20191102T022427Z
LAST-MODIFIED:20191102T022427Z
UID:1183-1575734400-1575745200@daylesfordcider.com.au
SUMMARY:December 'Twilight Series': The Cartwheels
DESCRIPTION:Kicking off our December ‘Twilight Series’ on Saturday 7th;\n“The Cartwheels”\n(Free Entry)\nWendy Phypers on guitar with partner Dave Patterson on double bass\, will get you into action with their country swing. \nThe Cartwheels have recently returned from Nashville Tennesee where they recorded an album with Music City’s best musicians. The album features ten new songs from Wendy and features her amazing voice! \nDave and Wendy will be joined at #daylesfordcider by fantastic guitarist Howard Malkin. \nThis event is free\, however we would recommend calling the cellar door to reserve a table and let them know you are coming through – thank you. \n
URL:https://daylesfordcider.com.au/calendar/december-twilight-series-the-cartwheels/
LOCATION:Daylesford Cider\, 155 Dairyflat Road\, Musk\, Vic\, 3461\, Australia
CATEGORIES:LIVE MUSIC
ATTACH;FMTTYPE=image/jpeg:https://daylesfordcider.com.au/wp-content/uploads/2019/11/Insta-twilight-cover-JPG.jpg
GEO:-37.3573961;144.2011063
X-APPLE-STRUCTURED-LOCATION;VALUE=URI;X-ADDRESS=Daylesford Cider 155 Dairyflat Road Musk Vic 3461 Australia;X-APPLE-RADIUS=500;X-TITLE=155 Dairyflat Road:geo:144.2011063,-37.3573961
END:VEVENT
END:VCALENDAR