BEGIN:VCALENDAR
VERSION:2.0
PRODID:-//Daylesford Cider Co - ECPv4.9.4//NONSGML v1.0//EN
CALSCALE:GREGORIAN
METHOD:PUBLISH
X-WR-CALNAME:Daylesford Cider Co
X-ORIGINAL-URL:https://daylesfordcider.com.au
X-WR-CALDESC:Events for Daylesford Cider Co
BEGIN:VTIMEZONE
TZID:"UTC"
BEGIN:STANDARD
TZOFFSETFROM:+0000
TZOFFSETTO:+0000
TZNAME:UTC
DTSTART:20190101T000000
END:STANDARD
END:VTIMEZONE
BEGIN:VEVENT
DTSTART;TZID="UTC":20191214T160000
DTEND;TZID="UTC":20191214T190000
DTSTAMP:20200229T024427
CREATED:20191102T031811Z
LAST-MODIFIED:20191102T031811Z
UID:1186-1576339200-1576350000@daylesfordcider.com.au
SUMMARY:December 'Twilight Series’: Hawk & Dove
DESCRIPTION:The second performers for our December ‘Twilight Series’ on Saturday 14th are…\n“Hawk & Dove” \nYou will love this delightful Duo! Featuring strong rhythmic guitars and fabulous 2-part harmonies\, you will be moved by the music that affected and enthralled a generation during the 60s & 70s.\nHawk & Dove’s repertoire features all the songs you know and love\, from Steve Earle to Emmylou Harris to The Beatles to Paul Kelly and more … you can be assured of a unique and special experience. \nFree entry. Wood fired pizza. Lawn Games. #daylesfordcider. Good times \n
URL:https://daylesfordcider.com.au/calendar/december-twilight-series-hawk-dove/
LOCATION:Daylesford Cider\, 155 Dairyflat Road\, Musk\, Vic\, 3461\, Australia
CATEGORIES:LIVE MUSIC
ATTACH;FMTTYPE=image/jpeg:https://daylesfordcider.com.au/wp-content/uploads/2019/11/Insta-twilight-cover-JPG.jpg
GEO:-37.3573961;144.2011063
X-APPLE-STRUCTURED-LOCATION;VALUE=URI;X-ADDRESS=Daylesford Cider 155 Dairyflat Road Musk Vic 3461 Australia;X-APPLE-RADIUS=500;X-TITLE=155 Dairyflat Road:geo:144.2011063,-37.3573961
END:VEVENT
END:VCALENDAR