BEGIN:VCALENDAR
VERSION:2.0
PRODID:-//Daylesford Cider Co - ECPv4.9.4//NONSGML v1.0//EN
CALSCALE:GREGORIAN
METHOD:PUBLISH
X-WR-CALNAME:Daylesford Cider Co
X-ORIGINAL-URL:https://daylesfordcider.com.au
X-WR-CALDESC:Events for Daylesford Cider Co
BEGIN:VTIMEZONE
TZID:"UTC"
BEGIN:STANDARD
TZOFFSETFROM:+0000
TZOFFSETTO:+0000
TZNAME:UTC
DTSTART:20190101T000000
END:STANDARD
END:VTIMEZONE
BEGIN:VEVENT
DTSTART;TZID="UTC":20191228T160000
DTEND;TZID="UTC":20191228T190000
DTSTAMP:20200229T024513
CREATED:20191102T032139Z
LAST-MODIFIED:20191102T032139Z
UID:1190-1577548800-1577559600@daylesfordcider.com.au
SUMMARY:December 'Twilight Series’: Lunar Dust
DESCRIPTION:The final performers for our December Twilight Series on Saturday 28th are…\n“Lunar Dust” \nIts always such a fun time when this group get together – expect great harmonies\, vocals\, narrative and an array of fabulous instruments. \nThis will be a great mid-festivities excuse to get up\, dance and kick back with family and friends. \nFree entry. Wood fired pizza. Lawn Games. #daylesfordcider. Good times \n
URL:https://daylesfordcider.com.au/calendar/december-twilight-series-lunar-dust/
LOCATION:Daylesford Cider\, 155 Dairyflat Road\, Musk\, Vic\, 3461\, Australia
CATEGORIES:LIVE MUSIC
ATTACH;FMTTYPE=image/jpeg:https://daylesfordcider.com.au/wp-content/uploads/2019/11/Insta-twilight-cover-JPG.jpg
GEO:-37.3573961;144.2011063
X-APPLE-STRUCTURED-LOCATION;VALUE=URI;X-ADDRESS=Daylesford Cider 155 Dairyflat Road Musk Vic 3461 Australia;X-APPLE-RADIUS=500;X-TITLE=155 Dairyflat Road:geo:144.2011063,-37.3573961
END:VEVENT
BEGIN:VEVENT
DTSTART;TZID="UTC":20191228T160000
DTEND;TZID="UTC":20191228T190000
DTSTAMP:20200229T024513
CREATED:20191224T064240Z
LAST-MODIFIED:20191224T064240Z
UID:1199-1577548800-1577559600@daylesfordcider.com.au
SUMMARY:Summer Twilight Series
DESCRIPTION:\nEvery Saturday throughout December\, January & February join us for wood fired pizza and live music 4pm till 7pm\, doors closing 8:30.\nFree entry\, lawn games & good time!\nreservations essential: (03) 5348 2275\n\n
URL:https://daylesfordcider.com.au/calendar/summer-twilight-series/2019-12-28/
LOCATION:Daylesford Cider\, 155 Dairyflat Road\, Musk\, Vic\, 3461\, Australia
CATEGORIES:LIVE MUSIC
ATTACH;FMTTYPE=image/jpeg:https://daylesfordcider.com.au/wp-content/uploads/2016/09/DaylesfordCider_Daylesford_Cidery_KatieWilton-32.jpg
GEO:-37.3573961;144.2011063
X-APPLE-STRUCTURED-LOCATION;VALUE=URI;X-ADDRESS=Daylesford Cider 155 Dairyflat Road Musk Vic 3461 Australia;X-APPLE-RADIUS=500;X-TITLE=155 Dairyflat Road:geo:144.2011063,-37.3573961
END:VEVENT
END:VCALENDAR