BEGIN:VCALENDAR
VERSION:2.0
PRODID:-//Daylesford Cider Co - ECPv4.9.4//NONSGML v1.0//EN
CALSCALE:GREGORIAN
METHOD:PUBLISH
X-WR-CALNAME:Daylesford Cider Co
X-ORIGINAL-URL:https://daylesfordcider.com.au
X-WR-CALDESC:Events for Daylesford Cider Co
BEGIN:VTIMEZONE
TZID:"UTC"
BEGIN:STANDARD
TZOFFSETFROM:+0000
TZOFFSETTO:+0000
TZNAME:UTC
DTSTART:20190101T000000
END:STANDARD
END:VTIMEZONE
BEGIN:VEVENT
DTSTART;TZID="UTC":20190720T180000
DTEND;TZID="UTC":20190720T223000
DTSTAMP:20200301T191921
CREATED:20190606T205622Z
LAST-MODIFIED:20190606T205622Z
UID:1116-1563645600-1563661800@daylesfordcider.com.au
SUMMARY:Christmas In July Banquet Dinner
DESCRIPTION:It’s back… one of our most subscribed events of the year!! \nJoin us from 6pm for a festive evening of delicious food\, merry tunes & great company in our cosy\, Christmas-themed cider tavern. \nThe evening event will include a 3 course banquet-style Christmas feast\, a glass of warm spiced cider (served alongside dessert)\, live music by Little Wigtown and the option of complimentary transport. \nThe complimentary transfer from Daylesford Town Hall and Bellinzona Resort in Hepburn Springs will be available at the start and end of the event\, and to be noted at checkout.\nPlease also let us know at checkout if you require vegetarian / vegan / gluten-free / non-alcoholic alternatives. \n
URL:https://daylesfordcider.com.au/calendar/christmas-in-july-banquet-dinner/
LOCATION:Daylesford Cider\, 155 Dairyflat Road\, Musk\, Vic\, 3461\, Australia
CATEGORIES:LIVE MUSIC
ATTACH;FMTTYPE=image/jpeg:https://daylesfordcider.com.au/wp-content/uploads/2018/06/Christmas-In-July-2018-JPG.jpg
GEO:-37.3573961;144.2011063
X-APPLE-STRUCTURED-LOCATION;VALUE=URI;X-ADDRESS=Daylesford Cider 155 Dairyflat Road Musk Vic 3461 Australia;X-APPLE-RADIUS=500;X-TITLE=155 Dairyflat Road:geo:144.2011063,-37.3573961
END:VEVENT
END:VCALENDAR