BEGIN:VCALENDAR
VERSION:2.0
PRODID:-//Daylesford Cider Co - ECPv4.9.4//NONSGML v1.0//EN
CALSCALE:GREGORIAN
METHOD:PUBLISH
X-WR-CALNAME:Daylesford Cider Co
X-ORIGINAL-URL:https://daylesfordcider.com.au
X-WR-CALDESC:Events for Daylesford Cider Co
BEGIN:VTIMEZONE
TZID:"UTC"
BEGIN:STANDARD
TZOFFSETFROM:+0000
TZOFFSETTO:+0000
TZNAME:UTC
DTSTART:20200101T000000
END:STANDARD
END:VTIMEZONE
BEGIN:VEVENT
DTSTART;TZID="UTC":20200411T100000
DTEND;TZID="UTC":20200411T170000
DTSTAMP:20200229T030022
CREATED:20200220T141841Z
LAST-MODIFIED:20200220T141841Z
UID:1238-1586599200-1586624400@daylesfordcider.com.au
SUMMARY:Four days of Easter
DESCRIPTION:Daylesford Cider will be open every day over the long Easter weekend\, 10am till 5pm\, just like normal! \nOur kitchen will be open for lunch Friday to Monday too\, with extended hours for wood fired pizza on days that we have live music. \nBookings are strongly recommended for groups of 8+ \nPlease call the cellar door on 5348 2275 \n
URL:https://daylesfordcider.com.au/calendar/four-days-of-easter/2020-04-11/
LOCATION:Daylesford Cider\, 155 Dairyflat Road\, Musk\, Vic\, 3461\, Australia
CATEGORIES:FESTIVAL,LIVE MUSIC
ATTACH;FMTTYPE=image/jpeg:https://daylesfordcider.com.au/wp-content/uploads/2016/06/DaylesfordCider_cider.jpg
GEO:-37.3573961;144.2011063
X-APPLE-STRUCTURED-LOCATION;VALUE=URI;X-ADDRESS=Daylesford Cider 155 Dairyflat Road Musk Vic 3461 Australia;X-APPLE-RADIUS=500;X-TITLE=155 Dairyflat Road:geo:144.2011063,-37.3573961
END:VEVENT
BEGIN:VEVENT
DTSTART;TZID="UTC":20200411T150000
DTEND;TZID="UTC":20200411T180000
DTSTAMP:20200229T030022
CREATED:20200220T140809Z
LAST-MODIFIED:20200220T140809Z
UID:1234-1586617200-1586628000@daylesfordcider.com.au
SUMMARY:Easter Saturday with Buck Jr
DESCRIPTION:\nDaylesford Cider are open for lunch every day over Easter\, with live music on Saturday 3pm-6pm by local artist Buck Jr.\n\n\n \n\n\nPainting pictures of nostalgia\, singer/songwriter Nicholas Ellerby (aka. Buck Jr) sheds light on the emotions derived from every day love\, lust\, heart ache and interaction. Simple and captivating acoustically driven soundscapes paired with earthy\, honest vocals will have you melt like butter and concur with every verse.\n\n\n \n\n\nLunch reservations strongly advised all four days of Easter.\n\n\nCellar door: 5348 2275\n\n
URL:https://daylesfordcider.com.au/calendar/easter-saturday-with-buck-jr/
LOCATION:Daylesford Cider\, 155 Dairyflat Road\, Musk\, Vic\, 3461\, Australia
CATEGORIES:LIVE MUSIC
ATTACH;FMTTYPE=image/jpeg:https://daylesfordcider.com.au/wp-content/uploads/2016/07/DaylesfordCider_rows2.jpg
GEO:-37.3573961;144.2011063
X-APPLE-STRUCTURED-LOCATION;VALUE=URI;X-ADDRESS=Daylesford Cider 155 Dairyflat Road Musk Vic 3461 Australia;X-APPLE-RADIUS=500;X-TITLE=155 Dairyflat Road:geo:144.2011063,-37.3573961
END:VEVENT
END:VCALENDAR