BEGIN:VCALENDAR
VERSION:2.0
PRODID:-//Daylesford Cider Co - ECPv4.9.4//NONSGML v1.0//EN
CALSCALE:GREGORIAN
METHOD:PUBLISH
X-WR-CALNAME:Daylesford Cider Co
X-ORIGINAL-URL:https://daylesfordcider.com.au
X-WR-CALDESC:Events for Daylesford Cider Co
BEGIN:VTIMEZONE
TZID:"UTC"
BEGIN:STANDARD
TZOFFSETFROM:+0000
TZOFFSETTO:+0000
TZNAME:UTC
DTSTART:20180101T000000
END:STANDARD
END:VTIMEZONE
BEGIN:VEVENT
DTSTART;TZID="UTC":20180728T110000
DTEND;TZID="UTC":20180728T160000
DTSTAMP:20200229T023208
CREATED:20180601T042826Z
LAST-MODIFIED:20180601T042826Z
UID:965-1532775600-1532793600@daylesfordcider.com.au
SUMMARY:Christmas In July: Lunch
DESCRIPTION:\nIt’s back… one of our most subscribed events of the year!! \n\n\n \n\n\nYou will have the option of either a lunchtime event finishing at 4pm\, or an evening dinner starting from 6pm with doors closing at 10:30pm.\n\n\n \n\n\nBoth events will include a 2 course Christmas dinner\, a drink upon arrival and festive tunes\, all in a cosy\, Christmas themed tavern. Main course will be traditional roast Turkey with all the trimmings\, followed by Christmas Pudding and brandy custard. Please let us know if you require a vegetarian/ vegan alternative or Gluten-free meal.\n\n\n \n\n\nThere is an option to book onto our shuttle bus for just $5 each way\, which will collect and drop off outside the Daylesford Hotel & Bluebean Café in Hepburn at the start and finish of each event.\n\n\n \n\n\nThis event is TICKETED ONLY\, and limited in space\, so early reservations recommended.\n\n
URL:https://daylesfordcider.com.au/calendar/christmas-in-july-lunch/
LOCATION:Daylesford Cider\, 155 Dairyflat Road\, Musk\, Vic\, 3461\, Australia
CATEGORIES:LIVE MUSIC
ATTACH;FMTTYPE=image/jpeg:https://daylesfordcider.com.au/wp-content/uploads/2018/06/Christmas-In-July-2018-JPG.jpg
GEO:-37.3573961;144.2011063
X-APPLE-STRUCTURED-LOCATION;VALUE=URI;X-ADDRESS=Daylesford Cider 155 Dairyflat Road Musk Vic 3461 Australia;X-APPLE-RADIUS=500;X-TITLE=155 Dairyflat Road:geo:144.2011063,-37.3573961
END:VEVENT
END:VCALENDAR