BEGIN:VCALENDAR
VERSION:2.0
PRODID:-//Daylesford Cider Co - ECPv4.9.4//NONSGML v1.0//EN
CALSCALE:GREGORIAN
METHOD:PUBLISH
X-WR-CALNAME:Daylesford Cider Co
X-ORIGINAL-URL:https://daylesfordcider.com.au
X-WR-CALDESC:Events for Daylesford Cider Co
BEGIN:VTIMEZONE
TZID:"UTC"
BEGIN:STANDARD
TZOFFSETFROM:+0000
TZOFFSETTO:+0000
TZNAME:UTC
DTSTART:20190101T000000
END:STANDARD
END:VTIMEZONE
BEGIN:VEVENT
DTSTART;TZID="UTC":20190721T113000
DTEND;TZID="UTC":20190721T153000
DTSTAMP:20200229T023708
CREATED:20190606T203228Z
LAST-MODIFIED:20190606T203228Z
UID:1114-1563708600-1563723000@daylesfordcider.com.au
SUMMARY:Christmas In July Sunday Lunch
DESCRIPTION:It’s back… one of our most subscribed events of the year!! \nGather up your family and friends\, don your favourite Christmas jumper\, and join us on Sunday 21st July from 11:30am for a festive focussed Sunday lunch.\nTicket price includes a 2-course traditional Christmas lunch\, a complimentary glass of warm spiced cider\, merry tunes & great company set in our cosy\, Christmas-themed cider tavern. \nPlease let us know at checkout if you require vegetarian / vegan / gluten-free / non-alcoholic alternatives. The kids ticket automatically includes Daylesford Cider’s non-alcoholic sparkling apple cider. \n
URL:https://daylesfordcider.com.au/calendar/christmas-in-july-sunday-lunch/
LOCATION:Daylesford Cider\, 155 Dairyflat Road\, Musk\, Vic\, 3461\, Australia
CATEGORIES:FESTIVAL
ATTACH;FMTTYPE=image/jpeg:https://daylesfordcider.com.au/wp-content/uploads/2018/06/Christmas-In-July-2018-JPG.jpg
GEO:-37.3573961;144.2011063
X-APPLE-STRUCTURED-LOCATION;VALUE=URI;X-ADDRESS=Daylesford Cider 155 Dairyflat Road Musk Vic 3461 Australia;X-APPLE-RADIUS=500;X-TITLE=155 Dairyflat Road:geo:144.2011063,-37.3573961
END:VEVENT
END:VCALENDAR