BEGIN:VCALENDAR
VERSION:2.0
PRODID:-//Daylesford Cider Co - ECPv4.9.4//NONSGML v1.0//EN
CALSCALE:GREGORIAN
METHOD:PUBLISH
X-WR-CALNAME:Daylesford Cider Co
X-ORIGINAL-URL:https://daylesfordcider.com.au
X-WR-CALDESC:Events for Daylesford Cider Co
BEGIN:VTIMEZONE
TZID:"UTC"
BEGIN:STANDARD
TZOFFSETFROM:+0000
TZOFFSETTO:+0000
TZNAME:UTC
DTSTART:20190101T000000
END:STANDARD
END:VTIMEZONE
BEGIN:VEVENT
DTSTART;VALUE=DATE:20190426
DTEND;VALUE=DATE:20190427
DTSTAMP:20200229T023559
CREATED:20190417T054706Z
LAST-MODIFIED:20190417T054706Z
UID:1098-1556236800-1556323199@daylesfordcider.com.au
SUMMARY:CLOSED: Wedding
DESCRIPTION:
URL:https://daylesfordcider.com.au/calendar/closed-wedding-4/
CATEGORIES:CLOSED
END:VEVENT
END:VCALENDAR