BEGIN:VCALENDAR
VERSION:2.0
PRODID:-//Daylesford Cider Co - ECPv4.9.4//NONSGML v1.0//EN
CALSCALE:GREGORIAN
METHOD:PUBLISH
X-WR-CALNAME:Daylesford Cider Co
X-ORIGINAL-URL:https://daylesfordcider.com.au
X-WR-CALDESC:Events for Daylesford Cider Co
BEGIN:VTIMEZONE
TZID:"UTC"
BEGIN:STANDARD
TZOFFSETFROM:+0000
TZOFFSETTO:+0000
TZNAME:UTC
DTSTART:20170101T000000
END:STANDARD
END:VTIMEZONE
BEGIN:VEVENT
DTSTART;TZID="UTC":20170326T120000
DTEND;TZID="UTC":20170326T160000
DTSTAMP:20200229T031133
CREATED:20170316T052421Z
LAST-MODIFIED:20170316T052421Z
UID:728-1490529600-1490544000@daylesfordcider.com.au
SUMMARY:Daylesford Cider at Glen Lyon Fayre
DESCRIPTION:Daylesford Cider will be one of many wonderful stalls at the 2017 Glenlyon Fayre.  Come and spend a Sunday afternoon enjoying the local produce this region is so famous for\, alongside live music and plenty to keep the kids entertained. \n12-4pm Glenlyon Reserve \nhttp://www.glenlyon.vic.au \n
URL:https://daylesfordcider.com.au/calendar/daylesford-cider-at-glen-lyon-fayre/
CATEGORIES:FESTIVAL
END:VEVENT
END:VCALENDAR