BEGIN:VCALENDAR
VERSION:2.0
PRODID:-//Daylesford Cider Co - ECPv4.9.4//NONSGML v1.0//EN
CALSCALE:GREGORIAN
METHOD:PUBLISH
X-WR-CALNAME:Daylesford Cider Co
X-ORIGINAL-URL:https://daylesfordcider.com.au
X-WR-CALDESC:Events for Daylesford Cider Co
BEGIN:VTIMEZONE
TZID:"UTC"
BEGIN:STANDARD
TZOFFSETFROM:+0000
TZOFFSETTO:+0000
TZNAME:UTC
DTSTART:20170101T000000
END:STANDARD
END:VTIMEZONE
BEGIN:VEVENT
DTSTART;TZID="UTC":20170108T100000
DTEND;TZID="UTC":20170108T160000
DTSTAMP:20200229T024008
CREATED:20170101T004945Z
LAST-MODIFIED:20170101T004945Z
UID:652-1483869600-1483891200@daylesfordcider.com.au
SUMMARY:Daylesford Cider @ Lavandula's Lavender Festival
DESCRIPTION:Lavandula Swiss Italian Farm is again celebrating its lavender harvest with an exciting festival on Sunday 8th of January. Visitors are welcome to learn about the lavender process from cutting in the field to watching the flowers being distilled for their precious essential oil. \nDaylesford Cider will be talking to guests about the heritage apple varieties they use to make Daylesford Cider\, the techniques and processes involved in cider making and answering any questions. There will also be the opportunity to sample some heritage apples on the day! \nIt will be a day filled with song\, dance and great food. As it’s a very family friendly event\, there will be plenty of attractions for the young-at-heart including a magician\, a real-life fairy\, face painting and pasta making demonstrations. \nFind out more: www.lavandula.com.au \n
URL:https://daylesfordcider.com.au/calendar/daylesford-cider-lavandulas-lavender-festival/
LOCATION:Lavandula
CATEGORIES:FESTIVAL
ATTACH;FMTTYPE=image/jpeg:https://daylesfordcider.com.au/wp-content/uploads/2016/06/DaylesfordCider_Daylesford_Cidery_KatieWilton-6.jpg
END:VEVENT
END:VCALENDAR