BEGIN:VCALENDAR
VERSION:2.0
PRODID:-//Daylesford Cider Co - ECPv4.9.4//NONSGML v1.0//EN
CALSCALE:GREGORIAN
METHOD:PUBLISH
X-WR-CALNAME:Daylesford Cider Co
X-ORIGINAL-URL:https://daylesfordcider.com.au
X-WR-CALDESC:Events for Daylesford Cider Co
BEGIN:VTIMEZONE
TZID:"UTC"
BEGIN:STANDARD
TZOFFSETFROM:+0000
TZOFFSETTO:+0000
TZNAME:UTC
DTSTART:20180101T000000
END:STANDARD
END:VTIMEZONE
BEGIN:VEVENT
DTSTART;TZID="UTC":20180610T110000
DTEND;TZID="UTC":20180610T170000
DTSTAMP:20200229T023156
CREATED:20180301T024055Z
LAST-MODIFIED:20180301T024055Z
UID:950-1528628400-1528650000@daylesfordcider.com.au
SUMMARY:Duck Down Pickers: Queen's Birthday Weekend
DESCRIPTION:Daylesford Cider secretly have a few favourites\, and its no surprise that these three chaps are up there for us.  We just love their style\, the wide assortment of instruments and their quirky characters. \nCome along for a fun afternoon with the Ducks\, delicious food and warm spiced cider in front of the log fire. \nThere is no entry fee for this event\, however bookings are strongly recommended. \nKitchen open 12-3 | Music from 12. \n
URL:https://daylesfordcider.com.au/calendar/duck-down-pickers-queens-birthday-weekend/
LOCATION:Daylesford Cider\, 155 Dairyflat Road\, Musk\, Vic\, 3461\, Australia
CATEGORIES:LIVE MUSIC
ATTACH;FMTTYPE=image/jpeg:https://daylesfordcider.com.au/wp-content/uploads/2016/06/DaylesfordCider_Daylesford_Cidery_chair_sml.jpg
GEO:-37.3573961;144.2011063
X-APPLE-STRUCTURED-LOCATION;VALUE=URI;X-ADDRESS=Daylesford Cider 155 Dairyflat Road Musk Vic 3461 Australia;X-APPLE-RADIUS=500;X-TITLE=155 Dairyflat Road:geo:144.2011063,-37.3573961
END:VEVENT
END:VCALENDAR