BEGIN:VCALENDAR
VERSION:2.0
PRODID:-//Daylesford Cider Co - ECPv4.9.4//NONSGML v1.0//EN
CALSCALE:GREGORIAN
METHOD:PUBLISH
X-WR-CALNAME:Daylesford Cider Co
X-ORIGINAL-URL:https://daylesfordcider.com.au
X-WR-CALDESC:Events for Daylesford Cider Co
BEGIN:VTIMEZONE
TZID:"UTC"
BEGIN:STANDARD
TZOFFSETFROM:+0000
TZOFFSETTO:+0000
TZNAME:UTC
DTSTART:20180101T000000
END:STANDARD
END:VTIMEZONE
BEGIN:VEVENT
DTSTART;TZID="UTC":20180331T100000
DTEND;TZID="UTC":20180331T170000
DTSTAMP:20200229T022647
CREATED:20180122T021546Z
LAST-MODIFIED:20180122T021546Z
UID:940-1522490400-1522515600@daylesfordcider.com.au
SUMMARY:Embers Band: Easter Saturday Lunch
DESCRIPTION:Daylesford Cider are thrilled to have the Embers band playing at our cellar door for the first time this coming Easter. \nDaylesford Cider will also be marking the 3rd Birthday since Clare & Mackie took over the establishment. \nLive music 12:30-3:30 | Kitchen open 12-3 | Lawn Games | Bookings strongly recommended: (03) 5348 2275 \nHauntingly beautiful\, the emotion in their music pours from the very core of their souls. Singing as one\, the harmonies of Chris and Em drift in and drift out bringing their spine tingling melodies back to light; combined with Pete’s chilling Gretsch tones and striking riffs\, Embers\, will take you to another place. Enriched with a hint of country\, soul and blues sit back and be transported with this Americana band\, Embers” \n  \n
URL:https://daylesfordcider.com.au/calendar/embers-band-easter-saturday-lunch/
LOCATION:Daylesford Cider\, 155 Dairyflat Road\, Musk\, Vic\, 3461\, Australia
CATEGORIES:LIVE MUSIC
ATTACH;FMTTYPE=image/jpeg:https://daylesfordcider.com.au/wp-content/uploads/2016/08/DaylesfordCider_events.jpg
GEO:-37.3573961;144.2011063
X-APPLE-STRUCTURED-LOCATION;VALUE=URI;X-ADDRESS=Daylesford Cider 155 Dairyflat Road Musk Vic 3461 Australia;X-APPLE-RADIUS=500;X-TITLE=155 Dairyflat Road:geo:144.2011063,-37.3573961
END:VEVENT
END:VCALENDAR