BEGIN:VCALENDAR
VERSION:2.0
PRODID:-//Daylesford Cider Co - ECPv4.9.4//NONSGML v1.0//EN
CALSCALE:GREGORIAN
METHOD:PUBLISH
X-WR-CALNAME:Daylesford Cider Co
X-ORIGINAL-URL:https://daylesfordcider.com.au
X-WR-CALDESC:Events for Daylesford Cider Co
BEGIN:VTIMEZONE
TZID:"UTC"
BEGIN:STANDARD
TZOFFSETFROM:+0000
TZOFFSETTO:+0000
TZNAME:UTC
DTSTART:20160101T000000
END:STANDARD
END:VTIMEZONE
BEGIN:VEVENT
DTSTART;TZID="UTC":20161022T123000
DTEND;TZID="UTC":20161022T153000
DTSTAMP:20200229T030831
CREATED:20160706T023759Z
LAST-MODIFIED:20161021T022645Z
UID:303-1477139400-1477150200@daylesfordcider.com.au
SUMMARY:Forbidden Dance EP launch
DESCRIPTION:Vanessa Craven & Lunar Dust are touring regional Victoria with songs from their new EP: Forbidden Dance. \nEnjoy this live acoustic set while enjoying some delicious food and award-winning cider in a cosy Tavern! \nTable reservations:  (03) 5348 2275 \n
URL:https://daylesfordcider.com.au/calendar/forbidden_dance/
LOCATION:Daylesford Cider\, 155 Dairyflat Road\, Musk\, Vic\, 3461\, Australia
ATTACH;FMTTYPE=image/jpeg:https://daylesfordcider.com.au/wp-content/uploads/2016/06/DaylesfordCider_Daylesford_Cidery_KatieWilton5.jpg
GEO:-37.3573961;144.2011063
X-APPLE-STRUCTURED-LOCATION;VALUE=URI;X-ADDRESS=Daylesford Cider 155 Dairyflat Road Musk Vic 3461 Australia;X-APPLE-RADIUS=500;X-TITLE=155 Dairyflat Road:geo:144.2011063,-37.3573961
END:VEVENT
END:VCALENDAR