BEGIN:VCALENDAR
VERSION:2.0
PRODID:-//Daylesford Cider Co - ECPv4.9.4//NONSGML v1.0//EN
CALSCALE:GREGORIAN
METHOD:PUBLISH
X-WR-CALNAME:Daylesford Cider Co
X-ORIGINAL-URL:https://daylesfordcider.com.au
X-WR-CALDESC:Events for Daylesford Cider Co
BEGIN:VTIMEZONE
TZID:"UTC"
BEGIN:STANDARD
TZOFFSETFROM:+0000
TZOFFSETTO:+0000
TZNAME:UTC
DTSTART:20180101T000000
END:STANDARD
END:VTIMEZONE
BEGIN:VEVENT
DTSTART;TZID="UTC":20180527T110000
DTEND;TZID="UTC":20180527T170000
DTSTAMP:20200229T023045
CREATED:20180301T031948Z
LAST-MODIFIED:20180301T031948Z
UID:952-1527418800-1527440400@daylesfordcider.com.au
SUMMARY:James Bennett Tour
DESCRIPTION:\nJames Bennet is an Alternative Roots/ Folk artist from Newcastle NSW. No stranger to playing live\, James incorporates 12 & six string guitars\, weissenborn lap steel\, stomp box & harmonica into his performances & has been playing to audiences across the East Coast of Australia for the last seven years.\n\n\n \n\n\nSo its no surprise we are little excited about his arrival at our cellar door in May. Our doors open 11am\, kitchen open 12-3 and live music from midday.\n\n\n \n\n\nThis is a FREE event\, however bookings are strongly recommended especially if you want a table near the music or in the main dining. \n\n\nExpect hearty menu\, log fire and warm spiced cider…\n\n
URL:https://daylesfordcider.com.au/calendar/james-bennett-tour/
LOCATION:Daylesford Cider\, 155 Dairyflat Road\, Musk\, Vic\, 3461\, Australia
CATEGORIES:LIVE MUSIC
ATTACH;FMTTYPE=image/jpeg:https://daylesfordcider.com.au/wp-content/uploads/2016/06/DaylesfordCider_Daylesford_Cidery_chair_sml.jpg
GEO:-37.3573961;144.2011063
X-APPLE-STRUCTURED-LOCATION;VALUE=URI;X-ADDRESS=Daylesford Cider 155 Dairyflat Road Musk Vic 3461 Australia;X-APPLE-RADIUS=500;X-TITLE=155 Dairyflat Road:geo:144.2011063,-37.3573961
END:VEVENT
END:VCALENDAR