BEGIN:VCALENDAR
VERSION:2.0
PRODID:-//Daylesford Cider Co - ECPv4.9.4//NONSGML v1.0//EN
CALSCALE:GREGORIAN
METHOD:PUBLISH
X-WR-CALNAME:Daylesford Cider Co
X-ORIGINAL-URL:https://daylesfordcider.com.au
X-WR-CALDESC:Events for Daylesford Cider Co
BEGIN:VTIMEZONE
TZID:"UTC"
BEGIN:STANDARD
TZOFFSETFROM:+0000
TZOFFSETTO:+0000
TZNAME:UTC
DTSTART:20190101T000000
END:STANDARD
END:VTIMEZONE
BEGIN:VEVENT
DTSTART;TZID="UTC":20190105T120000
DTEND;TZID="UTC":20190105T150000
DTSTAMP:20200229T023410
CREATED:20181009T015016Z
LAST-MODIFIED:20181009T015016Z
UID:1028-1546689600-1546700400@daylesfordcider.com.au
SUMMARY:Kelana live acoustic
DESCRIPTION:Kelana\, originally from Sumatra\, Indonesia\, spent several years playing clubs with a band around Bali before his arrival in  Australia\, 15 years ago. Upon his arrival\, after spending two years in Perth\, moved to Rye on the Mornington Peninsula and found his home away from home\, welcomed with open arms into the music scene. Finding influences from 1970s and 1990s rock\, Kelana has a grungy voice that can be soft and sweet and then blow you away with a Steven Tyler scream. Kelana plays covers from some of his main influences and has a wide catalogue of impressive originals. His ability to interact and captivate audiences is a pleasure to watch.  \n
URL:https://daylesfordcider.com.au/calendar/kelana-live-acoustic/
LOCATION:Daylesford Cider\, 155 Dairyflat Road\, Musk\, Vic\, 3461\, Australia
CATEGORIES:LIVE MUSIC
ATTACH;FMTTYPE=image/jpeg:https://daylesfordcider.com.au/wp-content/uploads/2016/08/DaylesfordCider_Logo-05.jpg
GEO:-37.3573961;144.2011063
X-APPLE-STRUCTURED-LOCATION;VALUE=URI;X-ADDRESS=Daylesford Cider 155 Dairyflat Road Musk Vic 3461 Australia;X-APPLE-RADIUS=500;X-TITLE=155 Dairyflat Road:geo:144.2011063,-37.3573961
END:VEVENT
END:VCALENDAR