BEGIN:VCALENDAR
VERSION:2.0
PRODID:-//Daylesford Cider Co - ECPv4.9.4//NONSGML v1.0//EN
CALSCALE:GREGORIAN
METHOD:PUBLISH
X-WR-CALNAME:Daylesford Cider Co
X-ORIGINAL-URL:https://daylesfordcider.com.au
X-WR-CALDESC:Events for Daylesford Cider Co
BEGIN:VTIMEZONE
TZID:"UTC"
BEGIN:STANDARD
TZOFFSETFROM:+0000
TZOFFSETTO:+0000
TZNAME:UTC
DTSTART:20180101T000000
END:STANDARD
END:VTIMEZONE
BEGIN:VEVENT
DTSTART;TZID="UTC":20180310T110000
DTEND;TZID="UTC":20180310T170000
DTSTAMP:20200229T022314
CREATED:20180110T094355Z
LAST-MODIFIED:20180110T094355Z
UID:916-1520679600-1520701200@daylesfordcider.com.au
SUMMARY:Little Wigtown: Labour Day weekend
DESCRIPTION:Daylesford Cider are looking forward to welcoming back Little Wigtown over the Labour Day weekend. \nThey will be live from 12:30 on Saturday 10th March. \nKitchen open 12-3 and table reservations strongly recommended: 5348 2275 or email us enquiries@daylesfordcider.com.au \nLawn games | cider garden & courtyard \nDoors typically close 5pm \n  \n
URL:https://daylesfordcider.com.au/calendar/little-wigtown-labour-day-weekend/
LOCATION:Daylesford Cider\, 155 Dairyflat Road\, Musk\, Vic\, 3461\, Australia
CATEGORIES:LIVE MUSIC
ATTACH;FMTTYPE=image/jpeg:https://daylesfordcider.com.au/wp-content/uploads/2016/06/DaylesfordCider_Daylesford_Cidery_KatieWilton-2.jpg
GEO:-37.3573961;144.2011063
X-APPLE-STRUCTURED-LOCATION;VALUE=URI;X-ADDRESS=Daylesford Cider 155 Dairyflat Road Musk Vic 3461 Australia;X-APPLE-RADIUS=500;X-TITLE=155 Dairyflat Road:geo:144.2011063,-37.3573961
END:VEVENT
END:VCALENDAR