BEGIN:VCALENDAR
VERSION:2.0
PRODID:-//Daylesford Cider Co - ECPv4.9.4//NONSGML v1.0//EN
CALSCALE:GREGORIAN
METHOD:PUBLISH
X-WR-CALNAME:Daylesford Cider Co
X-ORIGINAL-URL:https://daylesfordcider.com.au
X-WR-CALDESC:Events for Daylesford Cider Co
BEGIN:VTIMEZONE
TZID:"UTC"
BEGIN:STANDARD
TZOFFSETFROM:+0000
TZOFFSETTO:+0000
TZNAME:UTC
DTSTART:20180101T000000
END:STANDARD
END:VTIMEZONE
BEGIN:VEVENT
DTSTART;TZID="UTC":20181118T100000
DTEND;TZID="UTC":20181118T170000
DTSTAMP:20200229T023339
CREATED:20180814T052341Z
LAST-MODIFIED:20180814T052341Z
UID:983-1542535200-1542560400@daylesfordcider.com.au
SUMMARY:Mandy Connell & Co.
DESCRIPTION:\nMandy Connell & Co. will be back at Daylesford Cider’s cellar door for another stellar performance on Sunday 18th November.\n\n\n \n\n\nThe startlingly honest\, rich voice of former Stray Hens frontwoman\, and Aussie folk darling\, soars over distinctive sound of her Jack Spira Guitars. She is one not to be missed is all we can really say. Table reservations are strongly recommended. This lady is popular!\n\n\n \n\n\nLunch 12-3\, Live music 12:30-3:30\, lawn games\, shady spots and umbrellas over most courtyard tables. \n\n\nBookings: 5348 2275\n\n
URL:https://daylesfordcider.com.au/calendar/mandy-connell-co/
LOCATION:Daylesford Cider\, 155 Dairyflat Road\, Musk\, Vic\, 3461\, Australia
CATEGORIES:LIVE MUSIC
ATTACH;FMTTYPE=image/jpeg:https://daylesfordcider.com.au/wp-content/uploads/2016/06/stool_banner.jpg
GEO:-37.3573961;144.2011063
X-APPLE-STRUCTURED-LOCATION;VALUE=URI;X-ADDRESS=Daylesford Cider 155 Dairyflat Road Musk Vic 3461 Australia;X-APPLE-RADIUS=500;X-TITLE=155 Dairyflat Road:geo:144.2011063,-37.3573961
END:VEVENT
END:VCALENDAR