BEGIN:VCALENDAR
VERSION:2.0
PRODID:-//Daylesford Cider Co - ECPv4.9.4//NONSGML v1.0//EN
CALSCALE:GREGORIAN
METHOD:PUBLISH
X-WR-CALNAME:Daylesford Cider Co
X-ORIGINAL-URL:https://daylesfordcider.com.au
X-WR-CALDESC:Events for Daylesford Cider Co
BEGIN:VTIMEZONE
TZID:"UTC"
BEGIN:STANDARD
TZOFFSETFROM:+0000
TZOFFSETTO:+0000
TZNAME:UTC
DTSTART:20190101T000000
END:STANDARD
END:VTIMEZONE
BEGIN:VEVENT
DTSTART;TZID="UTC":20191006T080000
DTEND;TZID="UTC":20191006T170000
DTSTAMP:20200229T023745
CREATED:20190731T090820Z
LAST-MODIFIED:20190731T090820Z
UID:1160-1570348800-1570381200@daylesfordcider.com.au
SUMMARY:Mandy Connell Live Acoustic
DESCRIPTION:She’s back and we can’t wait for this fabulous woman and very talented musician to grace our cellar-door again!\nLunch reservations essential – call the cellar door to find out what times are available. (03) 5348 2275 \n
URL:https://daylesfordcider.com.au/calendar/mandy-connell-live-acoustic/
LOCATION:Daylesford Cider\, 155 Dairyflat Road\, Musk\, Vic\, 3461\, Australia
CATEGORIES:LIVE MUSIC
ATTACH;FMTTYPE=image/jpeg:https://daylesfordcider.com.au/wp-content/uploads/2016/09/DaylesfordCider_Daylesford_Cidery_KatieWilton-32.jpg
GEO:-37.3573961;144.2011063
X-APPLE-STRUCTURED-LOCATION;VALUE=URI;X-ADDRESS=Daylesford Cider 155 Dairyflat Road Musk Vic 3461 Australia;X-APPLE-RADIUS=500;X-TITLE=155 Dairyflat Road:geo:144.2011063,-37.3573961
END:VEVENT
END:VCALENDAR