BEGIN:VCALENDAR
VERSION:2.0
PRODID:-//Daylesford Cider Co - ECPv4.9.4//NONSGML v1.0//EN
CALSCALE:GREGORIAN
METHOD:PUBLISH
X-WR-CALNAME:Daylesford Cider Co
X-ORIGINAL-URL:https://daylesfordcider.com.au
X-WR-CALDESC:Events for Daylesford Cider Co
BEGIN:VTIMEZONE
TZID:"UTC"
BEGIN:STANDARD
TZOFFSETFROM:+0000
TZOFFSETTO:+0000
TZNAME:UTC
DTSTART:20180101T000000
END:STANDARD
END:VTIMEZONE
BEGIN:VEVENT
DTSTART;TZID="UTC":20180312T120000
DTEND;TZID="UTC":20180312T150000
DTSTAMP:20200301T173508
CREATED:20180122T020043Z
LAST-MODIFIED:20180122T020043Z
UID:927-1520856000-1520866800@daylesfordcider.com.au
SUMMARY:Monday Local's Lunch Deal: Pot & Pizza $25
DESCRIPTION:Come in for lunch on Mondays and enjoy a pot of cider and a wood fired pizza for $25 \nIf cider’s not your thing\, we can sort you out with a beer or wine instead! \nBookings encouraged; (03) 5348 2275 or email enquiries@daylesfordcider.com.au \nIn February this deal will extend into Friday lunch too. \n*please note that on some occasions we will not be able to run the wood fired pizza oven\, but lunch will still be on offer with this deal. \n
URL:https://daylesfordcider.com.au/calendar/monday-locals-lunch-deal-pot-pizza-25/2018-03-12/
ATTACH;FMTTYPE=image/jpeg:https://daylesfordcider.com.au/wp-content/uploads/2016/09/DaylesfordCider_Daylesford_Cidery_KatieWilton-32.jpg
END:VEVENT
END:VCALENDAR