BEGIN:VCALENDAR
VERSION:2.0
PRODID:-//Daylesford Cider Co - ECPv4.9.4//NONSGML v1.0//EN
CALSCALE:GREGORIAN
METHOD:PUBLISH
X-WR-CALNAME:Daylesford Cider Co
X-ORIGINAL-URL:https://daylesfordcider.com.au
X-WR-CALDESC:Events for Daylesford Cider Co
BEGIN:VTIMEZONE
TZID:"UTC"
BEGIN:STANDARD
TZOFFSETFROM:+0000
TZOFFSETTO:+0000
TZNAME:UTC
DTSTART:20180101T000000
END:STANDARD
END:VTIMEZONE
BEGIN:VEVENT
DTSTART;TZID="UTC":20180513T110000
DTEND;TZID="UTC":20180513T170000
DTSTAMP:20200229T023033
CREATED:20180212T001142Z
LAST-MODIFIED:20180212T001142Z
UID:945-1526209200-1526230800@daylesfordcider.com.au
SUMMARY:Mother's Day with Lunar Dust
DESCRIPTION:Join us on Mothering Sunday\, for a delicious lunch and live music by local band; Lunar Dust. \nVanessa Craven and her band have been playing at the cidery for several years\, and always keep the crowd well entertained.  A fantastic range of instruments\, personalities and sounds always ensure a toe tappin’ time. \nKitchen open 12-3pm | Open Log Fire | Warm Winter Spiced Cider \nBookings essential: 5348 2275 or email enquiries@daylesfordcider.com.au \n
URL:https://daylesfordcider.com.au/calendar/mothers-day-with-lunar-dust/
LOCATION:Daylesford Cider\, 155 Dairyflat Road\, Musk\, Vic\, 3461\, Australia
CATEGORIES:LIVE MUSIC
ATTACH;FMTTYPE=image/jpeg:https://daylesfordcider.com.au/wp-content/uploads/2016/06/DaylesfordCider_Daylesford_Cidery_chair_sml.jpg
GEO:-37.3573961;144.2011063
X-APPLE-STRUCTURED-LOCATION;VALUE=URI;X-ADDRESS=Daylesford Cider 155 Dairyflat Road Musk Vic 3461 Australia;X-APPLE-RADIUS=500;X-TITLE=155 Dairyflat Road:geo:144.2011063,-37.3573961
END:VEVENT
END:VCALENDAR