BEGIN:VCALENDAR
VERSION:2.0
PRODID:-//Daylesford Cider Co - ECPv4.9.4//NONSGML v1.0//EN
CALSCALE:GREGORIAN
METHOD:PUBLISH
X-WR-CALNAME:Daylesford Cider Co
X-ORIGINAL-URL:https://daylesfordcider.com.au
X-WR-CALDESC:Events for Daylesford Cider Co
BEGIN:VTIMEZONE
TZID:"UTC"
BEGIN:STANDARD
TZOFFSETFROM:+0000
TZOFFSETTO:+0000
TZNAME:UTC
DTSTART:20190101T000000
END:STANDARD
END:VTIMEZONE
BEGIN:VEVENT
DTSTART;TZID="UTC":20191103T100000
DTEND;TZID="UTC":20191103T170000
DTSTAMP:20200229T023909
CREATED:20190728T161553Z
LAST-MODIFIED:20190728T161553Z
UID:1155-1572775200-1572800400@daylesfordcider.com.au
SUMMARY:Salty Bones Live Acoustic
DESCRIPTION:\nWe are thrilled to be welcoming back Salty Bones\, who will be playing an extensive set list of original songs.\n\n\n \n\n\nGuitar playing that is one moment a chugging rhythm\, the next a tapestry of intricate picking and percussive tapping\, coupled with a thundering heart beat of a stomp box under foot\, this travelling singer lays down a beautiful base for the stories\, proclamations and laminations of a life lived in constant movement with well considered and brutally honest lyrics.\n\n\n \n\n\nDoors open 10:00am to 5:00pm\, lunch is served from 12:00\, lawn games\, kid friendly\, friendly dogs on leads welcome\, cider cocktails and good times!\n\n\n \n\n\nLunch reservations are strongly recommended\, otherwise you are welcome to pop in for a drink.\n\n
URL:https://daylesfordcider.com.au/calendar/salty-bones-live-acoustic-2/
LOCATION:Daylesford Cider\, 155 Dairyflat Road\, Musk\, Vic\, 3461\, Australia
CATEGORIES:LIVE MUSIC
ATTACH;FMTTYPE=image/jpeg:https://daylesfordcider.com.au/wp-content/uploads/2016/08/DaylesfordCider_events.jpg
GEO:-37.3573961;144.2011063
X-APPLE-STRUCTURED-LOCATION;VALUE=URI;X-ADDRESS=Daylesford Cider 155 Dairyflat Road Musk Vic 3461 Australia;X-APPLE-RADIUS=500;X-TITLE=155 Dairyflat Road:geo:144.2011063,-37.3573961
END:VEVENT
END:VCALENDAR