BEGIN:VCALENDAR
VERSION:2.0
PRODID:-//Daylesford Cider Co - ECPv4.9.4//NONSGML v1.0//EN
CALSCALE:GREGORIAN
METHOD:PUBLISH
X-WR-CALNAME:Daylesford Cider Co
X-ORIGINAL-URL:https://daylesfordcider.com.au
X-WR-CALDESC:Events for Daylesford Cider Co
BEGIN:VTIMEZONE
TZID:"UTC"
BEGIN:STANDARD
TZOFFSETFROM:+0000
TZOFFSETTO:+0000
TZNAME:UTC
DTSTART:20190101T000000
END:STANDARD
END:VTIMEZONE
BEGIN:VEVENT
DTSTART;TZID="UTC":20190202T170000
DTEND;TZID="UTC":20190202T223000
DTSTAMP:20200229T023428
CREATED:20181212T062554Z
LAST-MODIFIED:20181212T062554Z
UID:1072-1549126800-1549146600@daylesfordcider.com.au
SUMMARY:Slow Smoked Texas Barbecue
DESCRIPTION:\nDaylesford Cider are partnering with “Little Big Man BBQ” to bring you a perfect summer’s evening in the courtyard & gardens of their cellar-door.\n\n\n \n\n\nTickets & info: www.ticketebo.com.au/ciderbbq\n\n\n \n\n\n“Little Big Man BBQ” specialise in producing high quality Texas-style low and slow meat dishes and sides smoked in their custom built giant smoking pit. The group are led by pit master Liam who is a member of the highly successful Australian competition team ‘The Smoking Joint’. TSJ recently competed against the best in the world of bbq and won one of the categories at the Jack Daniels World BBQ Championships with a perfect score. These guys are pretty serious about smoked meats. Dinner is a tray of smoked delights including melt in your mouth pulled lamb\, chicken\, bread roll\, corn & slaw. Vegetarian alternative & gluten free available\, please advise of requirements during checkout. Kids dinner is pulled lamb sliders\, corn & slaw with a non-alcoholic sparkling apple cider.\n\n\n \n\n\nIncluded in the adult ticket price is a pint of Daylesford Cider & live music for the evening by the fabulous Mandy Connell Trio. With acclaim throughout the folk scene\, Mandy Connell brings song-writing excellence\, beautiful lyrics with harmonies and time signatures as fluid as the melodies themselves.\n\n\n \n\n\nYou can either choose to eat at the earlier service of 6pm\, or the later one of 7pm. For those that are driving\, there is a lower alcohol alternative cider\, non-alcoholic options (included in the child’s ticket) as well as a range of local wines & beers.\n\n\n \n\n\nSo go on\, gather up your family and friends and come join us for this delightful summer’s evening.\n\n
URL:https://daylesfordcider.com.au/calendar/slow-smoked-texas-barbecue/
LOCATION:Daylesford Cider\, 155 Dairyflat Road\, Musk\, Vic\, 3461\, Australia
CATEGORIES:LIVE MUSIC
ATTACH;FMTTYPE=image/jpeg:https://daylesfordcider.com.au/wp-content/uploads/2018/12/Texan-BBQ-Poster-JPG.jpg
GEO:-37.3573961;144.2011063
X-APPLE-STRUCTURED-LOCATION;VALUE=URI;X-ADDRESS=Daylesford Cider 155 Dairyflat Road Musk Vic 3461 Australia;X-APPLE-RADIUS=500;X-TITLE=155 Dairyflat Road:geo:144.2011063,-37.3573961
END:VEVENT
END:VCALENDAR