BEGIN:VCALENDAR
VERSION:2.0
PRODID:-//Daylesford Cider Co - ECPv4.9.4//NONSGML v1.0//EN
CALSCALE:GREGORIAN
METHOD:PUBLISH
X-WR-CALNAME:Daylesford Cider Co
X-ORIGINAL-URL:https://daylesfordcider.com.au
X-WR-CALDESC:Events for Daylesford Cider Co
BEGIN:VTIMEZONE
TZID:"UTC"
BEGIN:STANDARD
TZOFFSETFROM:+0000
TZOFFSETTO:+0000
TZNAME:UTC
DTSTART:20160101T000000
END:STANDARD
END:VTIMEZONE
BEGIN:VEVENT
DTSTART;TZID="UTC":20161218T120000
DTEND;TZID="UTC":20161218T170000
DTSTAMP:20200229T031005
CREATED:20161217T235124Z
LAST-MODIFIED:20161217T235415Z
UID:643-1482062400-1482080400@daylesfordcider.com.au
SUMMARY:Wood Fired Pizza Sunday
DESCRIPTION:
URL:https://daylesfordcider.com.au/calendar/wood-fired-pizza-sunday/
END:VEVENT
END:VCALENDAR