BEGIN:VCALENDAR
VERSION:2.0
PRODID:-//Daylesford Cider Co - ECPv4.9.4//NONSGML v1.0//EN
CALSCALE:GREGORIAN
METHOD:PUBLISH
X-WR-CALNAME:Daylesford Cider Co
X-ORIGINAL-URL:https://daylesfordcider.com.au
X-WR-CALDESC:Events for Daylesford Cider Co
BEGIN:VTIMEZONE
TZID:"UTC"
BEGIN:STANDARD
TZOFFSETFROM:+0000
TZOFFSETTO:+0000
TZNAME:UTC
DTSTART:20180101T000000
END:STANDARD
END:VTIMEZONE
BEGIN:VEVENT
DTSTART;TZID="UTC":20180603T110000
DTEND;TZID="UTC":20180603T170000
DTSTAMP:20200229T023145
CREATED:20180426T053102Z
LAST-MODIFIED:20180426T053102Z
UID:956-1528023600-1528045200@daylesfordcider.com.au
SUMMARY:World Cider Day
DESCRIPTION:\nDaylesford Cider will be show-casing some of their newest ciders\, offering free samples and discounts on take-away cider packs.\n\n\n \n\n\nClaim your free pot of cider with every main course when you make your booking\, by stating “LOVE THEM APPLES”\n\n\n \n\n\nLunch will be available from midday\, plus our infamous warm spiced cider will be served up in front of the open log fire.\n\n\n \n\n\nBookings: 5348 2275 or email clare@daylesfordcider.com.au\n\n
URL:https://daylesfordcider.com.au/calendar/world-cider-day-2/
CATEGORIES:FESTIVAL
ATTACH;FMTTYPE=image/jpeg:https://daylesfordcider.com.au/wp-content/uploads/2016/06/DaylesfordCider_cider.jpg
END:VEVENT
END:VCALENDAR